BEGIN:VCALENDAR
VERSION:2.0
PRODID:icalendar-ruby
CALSCALE:GREGORIAN
METHOD:PUBLISH
BEGIN:VEVENT
DTSTAMP:20260422T081458Z
UID:9-1005382@peacemennonitefellowship.com
DTSTART:20261101T153000Z
DTEND:20261101T170000Z
CLASS:PUBLIC
CREATED:20260421T211810
DESCRIPTION:
LAST-MODIFIED:20260421T211810
LOCATION:
SUMMARY:Worship
URL;VALUE=URI:https://peacemennonitefellowship.com/events/worship/2026-11-0
 1
END:VEVENT
END:VCALENDAR
