BEGIN:VCALENDAR
VERSION:2.0
PRODID:icalendar-ruby
CALSCALE:GREGORIAN
METHOD:PUBLISH
BEGIN:VEVENT
DTSTAMP:20260421T205041Z
UID:9-1005119@peacemennonitefellowship.com
DTSTART:20260913T143000Z
DTEND:20260913T160000Z
CLASS:PUBLIC
CREATED:20260421T160112
DESCRIPTION:
LAST-MODIFIED:20260421T160112
LOCATION:
SUMMARY:Worship
URL;VALUE=URI:https://peacemennonitefellowship.com/events/worship/2026-09-1
 3
END:VEVENT
END:VCALENDAR
