BEGIN:VCALENDAR
VERSION:2.0
PRODID:icalendar-ruby
CALSCALE:GREGORIAN
METHOD:PUBLISH
BEGIN:VEVENT
DTSTAMP:20260421T191318Z
UID:9-1004990@peacemennonitefellowship.com
DTSTART:20260906T143000Z
DTEND:20260906T160000Z
CLASS:PUBLIC
CREATED:20260421T132512
DESCRIPTION:
LAST-MODIFIED:20260421T132512
LOCATION:
SUMMARY:Worship
URL;VALUE=URI:https://peacemennonitefellowship.com/events/worship/2026-09-0
 6
END:VEVENT
END:VCALENDAR
