BEGIN:VCALENDAR
VERSION:2.0
PRODID:icalendar-ruby
CALSCALE:GREGORIAN
METHOD:PUBLISH
BEGIN:VEVENT
DTSTAMP:20260421T173627Z
UID:9-1004989@peacemennonitefellowship.com
DTSTART:20260830T143000Z
DTEND:20260830T160000Z
CLASS:PUBLIC
CREATED:20260421T132512
DESCRIPTION:
LAST-MODIFIED:20260421T132512
LOCATION:
SUMMARY:Worship
URL;VALUE=URI:https://peacemennonitefellowship.com/events/worship/2026-08-3
 0
END:VEVENT
END:VCALENDAR
