BEGIN:VCALENDAR
VERSION:2.0
PRODID:icalendar-ruby
CALSCALE:GREGORIAN
METHOD:PUBLISH
BEGIN:VEVENT
DTSTAMP:20260421T154335Z
UID:9-1004860@peacemennonitefellowship.com
DTSTART:20260823T143000Z
DTEND:20260823T160000Z
CLASS:PUBLIC
CREATED:20260421T104513
DESCRIPTION:
LAST-MODIFIED:20260421T104513
LOCATION:
SUMMARY:Worship
URL;VALUE=URI:https://peacemennonitefellowship.com/events/worship/2026-08-2
 3
END:VEVENT
END:VCALENDAR
