BEGIN:VCALENDAR
VERSION:2.0
PRODID:icalendar-ruby
CALSCALE:GREGORIAN
METHOD:PUBLISH
BEGIN:VEVENT
DTSTAMP:20260421T140914Z
UID:9-1004731@peacemennonitefellowship.com
DTSTART:20260816T143000Z
DTEND:20260816T160000Z
CLASS:PUBLIC
CREATED:20260421T080947
DESCRIPTION:
LAST-MODIFIED:20260421T080947
LOCATION:
SUMMARY:Worship
URL;VALUE=URI:https://peacemennonitefellowship.com/events/worship/2026-08-1
 6
END:VEVENT
END:VCALENDAR
