BEGIN:VCALENDAR
VERSION:2.0
PRODID:icalendar-ruby
CALSCALE:GREGORIAN
METHOD:PUBLISH
BEGIN:VEVENT
DTSTAMP:20260421T084113Z
UID:9-1004602@peacemennonitefellowship.com
DTSTART:20260809T143000Z
DTEND:20260809T160000Z
CLASS:PUBLIC
CREATED:20260420T210259
DESCRIPTION:
LAST-MODIFIED:20260420T210259
LOCATION:
SUMMARY:Worship
URL;VALUE=URI:https://peacemennonitefellowship.com/events/worship/2026-08-0
 9
END:VEVENT
END:VCALENDAR
