BEGIN:VCALENDAR
VERSION:2.0
PRODID:icalendar-ruby
CALSCALE:GREGORIAN
METHOD:PUBLISH
BEGIN:VEVENT
DTSTAMP:20260423T084218Z
UID:8-1006086@peacemennonitefellowship.com
DTSTART:20261101T141500Z
DTEND:20261101T151500Z
CLASS:PUBLIC
CREATED:20260422T225543
DESCRIPTION:
LAST-MODIFIED:20260422T225543
LOCATION:
SUMMARY:First Hour
URL;VALUE=URI:https://peacemennonitefellowship.com/events/first-hour/2026-1
 1-01
END:VEVENT
END:VCALENDAR
