BEGIN:VCALENDAR
VERSION:2.0
PRODID:icalendar-ruby
CALSCALE:GREGORIAN
METHOD:PUBLISH
BEGIN:VEVENT
DTSTAMP:20260423T070003Z
UID:8-1006085@peacemennonitefellowship.com
DTSTART:20261025T131500Z
DTEND:20261025T141500Z
CLASS:PUBLIC
CREATED:20260422T225543
DESCRIPTION:
LAST-MODIFIED:20260422T225543
LOCATION:
SUMMARY:First Hour
URL;VALUE=URI:https://peacemennonitefellowship.com/events/first-hour/2026-1
 0-25
END:VEVENT
END:VCALENDAR
