BEGIN:VCALENDAR
VERSION:2.0
PRODID:icalendar-ruby
CALSCALE:GREGORIAN
METHOD:PUBLISH
BEGIN:VEVENT
DTSTAMP:20260423T023835Z
UID:8-1005954@peacemennonitefellowship.com
DTSTART:20261004T131500Z
DTEND:20261004T141500Z
CLASS:PUBLIC
CREATED:20260422T200138
DESCRIPTION:
LAST-MODIFIED:20260422T200138
LOCATION:
SUMMARY:First Hour
URL;VALUE=URI:https://peacemennonitefellowship.com/events/first-hour/2026-1
 0-04
END:VEVENT
END:VCALENDAR
