BEGIN:VCALENDAR
VERSION:2.0
PRODID:icalendar-ruby
CALSCALE:GREGORIAN
METHOD:PUBLISH
BEGIN:VEVENT
DTSTAMP:20260423T005510Z
UID:8-1005953@peacemennonitefellowship.com
DTSTART:20260927T131500Z
DTEND:20260927T141500Z
CLASS:PUBLIC
CREATED:20260422T200138
DESCRIPTION:
LAST-MODIFIED:20260422T200138
LOCATION:
SUMMARY:First Hour
URL;VALUE=URI:https://peacemennonitefellowship.com/events/first-hour/2026-0
 9-27
END:VEVENT
END:VCALENDAR
