BEGIN:VCALENDAR
VERSION:2.0
PRODID:icalendar-ruby
CALSCALE:GREGORIAN
METHOD:PUBLISH
BEGIN:VEVENT
DTSTAMP:20260422T232508Z
UID:8-1005824@peacemennonitefellowship.com
DTSTART:20260920T131500Z
DTEND:20260920T141500Z
CLASS:PUBLIC
CREATED:20260422T170955
DESCRIPTION:
LAST-MODIFIED:20260422T170955
LOCATION:
SUMMARY:First Hour
URL;VALUE=URI:https://peacemennonitefellowship.com/events/first-hour/2026-0
 9-20
END:VEVENT
END:VCALENDAR
